BEGIN:VCALENDAR
VERSION:2.0
PRODID:-//Penn Township, Lancaster County, PA - ECPv6.15.20//NONSGML v1.0//EN
CALSCALE:GREGORIAN
METHOD:PUBLISH
X-WR-CALNAME:Penn Township, Lancaster County, PA
X-ORIGINAL-URL:https://penntwplanco.org
X-WR-CALDESC:Events for Penn Township, Lancaster County, PA
REFRESH-INTERVAL;VALUE=DURATION:PT1H
X-Robots-Tag:noindex
X-PUBLISHED-TTL:PT1H
BEGIN:VTIMEZONE
TZID:America/New_York
BEGIN:DAYLIGHT
TZOFFSETFROM:-0500
TZOFFSETTO:-0400
TZNAME:EDT
DTSTART:20250309T070000
END:DAYLIGHT
BEGIN:STANDARD
TZOFFSETFROM:-0400
TZOFFSETTO:-0500
TZNAME:EST
DTSTART:20251102T060000
END:STANDARD
BEGIN:DAYLIGHT
TZOFFSETFROM:-0500
TZOFFSETTO:-0400
TZNAME:EDT
DTSTART:20260308T070000
END:DAYLIGHT
BEGIN:STANDARD
TZOFFSETFROM:-0400
TZOFFSETTO:-0500
TZNAME:EST
DTSTART:20261101T060000
END:STANDARD
BEGIN:DAYLIGHT
TZOFFSETFROM:-0500
TZOFFSETTO:-0400
TZNAME:EDT
DTSTART:20270314T070000
END:DAYLIGHT
BEGIN:STANDARD
TZOFFSETFROM:-0400
TZOFFSETTO:-0500
TZNAME:EST
DTSTART:20271107T060000
END:STANDARD
END:VTIMEZONE
BEGIN:VEVENT
DTSTART;TZID=America/New_York:20260427T190000
DTEND;TZID=America/New_York:20260427T210000
DTSTAMP:20260424T110035
CREATED:20241219T192353Z
LAST-MODIFIED:20251219T185004Z
UID:10003224-1777316400-1777323600@penntwplanco.org
SUMMARY:Board of Supervisors Meeting
DESCRIPTION:
URL:https://penntwplanco.org/event/board-of-supervisors-meeting-2018-08-13-3-2/2026-04-27/
CATEGORIES:Board of Supervisors
END:VEVENT
BEGIN:VEVENT
DTSTART;TZID=America/New_York:20260428T083000
DTEND;TZID=America/New_York:20260428T093000
DTSTAMP:20260424T110035
CREATED:20180209T175935Z
LAST-MODIFIED:20251219T190856Z
UID:10002258-1777365000-1777368600@penntwplanco.org
SUMMARY:Penn Industrial Development Authority Meeting
DESCRIPTION:
URL:https://penntwplanco.org/event/penn-industrial-development-authority-meeting-2018-05-22/2026-04-28/
CATEGORIES:Penn IDA
END:VEVENT
END:VCALENDAR